BEGIN:VCALENDAR
VERSION:2.0
PRODID:JMS Hockey
X-PUBLISHED-TTL:P1W
BEGIN:VEVENT
UID:69e7bfcfaea25
DTSTART:20111230T021500Z
SEQUENCE:0
TRANSP:OPAQUE
DTEND:20111230T031500Z
URL:http://jmshockey.com/games/3691
LOCATION:Parade Ice Gardens
SUMMARY:Lower Level Game at Parade Ice Gardens
CLASS:PUBLIC
DTSTAMP:20260421T131959Z
END:VEVENT
END:VCALENDAR