BEGIN:VCALENDAR
VERSION:2.0
PRODID:JMS Hockey
X-PUBLISHED-TTL:P1W
BEGIN:VEVENT
UID:69e7b3139a848
DTSTART:20111223T040000Z
SEQUENCE:0
TRANSP:OPAQUE
DTEND:20111223T053000Z
URL:http://jmshockey.com/games/3690
LOCATION:St Thomas Ice Arena
SUMMARY:All level Game at St Thomas Ice Arena
CLASS:PUBLIC
DTSTAMP:20260421T122539Z
END:VEVENT
END:VCALENDAR