BEGIN:VCALENDAR
VERSION:2.0
PRODID:JMS Hockey
X-PUBLISHED-TTL:P1W
BEGIN:VEVENT
UID:69e7a310b71e3
DTSTART:20111202T021500Z
SEQUENCE:0
TRANSP:OPAQUE
DTEND:20111202T031500Z
URL:http://jmshockey.com/games/3686
LOCATION:Parade Ice Gardens
SUMMARY:Lower Level Game at Parade Ice Gardens
CLASS:PUBLIC
DTSTAMP:20260421T111720Z
END:VEVENT
END:VCALENDAR