BEGIN:VCALENDAR
VERSION:2.0
PRODID:JMS Hockey
X-PUBLISHED-TTL:P1W
BEGIN:VEVENT
UID:69e7c31680d4f
DTSTART:20111123T121500Z
SEQUENCE:0
TRANSP:OPAQUE
DTEND:20111123T131500Z
URL:http://jmshockey.com/games/3681
LOCATION:Breck Anderson Arena
SUMMARY:All level Game at Breck Anderson Arena
CLASS:PUBLIC
DTSTAMP:20260421T133358Z
END:VEVENT
END:VCALENDAR