BEGIN:VCALENDAR
VERSION:2.0
PRODID:JMS Hockey
X-PUBLISHED-TTL:P1W
BEGIN:VEVENT
UID:69e7ada0681a1
DTSTART:20120107T033000Z
SEQUENCE:0
TRANSP:OPAQUE
DTEND:20120107T050000Z
URL:http://jmshockey.com/games/3678
LOCATION:Eden Prairie Comm Ctr
SUMMARY:Level 2 Game at Eden Prairie Comm Ctr
CLASS:PUBLIC
DTSTAMP:20260421T120224Z
END:VEVENT
END:VCALENDAR