BEGIN:VCALENDAR
VERSION:2.0
PRODID:JMS Hockey
X-PUBLISHED-TTL:P1W
BEGIN:VEVENT
UID:69e7c3485e8a9
DTSTART:20111224T020000Z
SEQUENCE:0
TRANSP:OPAQUE
DTEND:20111224T033000Z
URL:http://jmshockey.com/games/3676
LOCATION:Eden Prairie Comm Ctr
SUMMARY:Level 2 Game at Eden Prairie Comm Ctr
CLASS:PUBLIC
DTSTAMP:20260421T133448Z
END:VEVENT
END:VCALENDAR