BEGIN:VCALENDAR
VERSION:2.0
PRODID:JMS Hockey
X-PUBLISHED-TTL:P1W
BEGIN:VEVENT
UID:69e7c6e4ad5ac
DTSTART:20120328T024500Z
SEQUENCE:0
TRANSP:OPAQUE
DTEND:20120328T041500Z
URL:http://jmshockey.com/games/3671
LOCATION:Eden Prairie Comm Ctr
SUMMARY:Level 3 Game at Eden Prairie Comm Ctr
CLASS:PUBLIC
DTSTAMP:20260421T135012Z
END:VEVENT
END:VCALENDAR