BEGIN:VCALENDAR
VERSION:2.0
PRODID:JMS Hockey
X-PUBLISHED-TTL:P1W
BEGIN:VEVENT
UID:69e7adb3ac6b1
DTSTART:20111111T021500Z
SEQUENCE:0
TRANSP:OPAQUE
DTEND:20111111T031500Z
URL:http://jmshockey.com/games/3649
LOCATION:Parade Ice Gardens
SUMMARY:Lower Level Game at Parade Ice Gardens
CLASS:PUBLIC
DTSTAMP:20260421T120243Z
END:VEVENT
END:VCALENDAR