BEGIN:VCALENDAR
VERSION:2.0
PRODID:JMS Hockey
X-PUBLISHED-TTL:P1W
BEGIN:VEVENT
UID:69e7c172d6257
DTSTART:20111028T011500Z
SEQUENCE:0
TRANSP:OPAQUE
DTEND:20111028T021500Z
URL:http://jmshockey.com/games/3647
LOCATION:Parade Ice Gardens
SUMMARY:Lower Level Game at Parade Ice Gardens
CLASS:PUBLIC
DTSTAMP:20260421T132658Z
END:VEVENT
END:VCALENDAR