BEGIN:VCALENDAR
VERSION:2.0
PRODID:JMS Hockey
X-PUBLISHED-TTL:P1W
BEGIN:VEVENT
UID:69e7c35a7b0b6
DTSTART:20120327T004500Z
SEQUENCE:0
TRANSP:OPAQUE
DTEND:20120327T021500Z
URL:http://jmshockey.com/games/3640
LOCATION:Vadnais Heights Sports Complex
SUMMARY:Lower Level Game at Vadnais Heights Sports Complex
CLASS:PUBLIC
DTSTAMP:20260421T133506Z
END:VEVENT
END:VCALENDAR