BEGIN:VCALENDAR
VERSION:2.0
PRODID:JMS Hockey
X-PUBLISHED-TTL:P1W
BEGIN:VEVENT
UID:69e7ad71c8620
DTSTART:20120214T034500Z
SEQUENCE:0
TRANSP:OPAQUE
DTEND:20120214T051500Z
URL:http://jmshockey.com/games/3634
LOCATION:Vadnais Heights Sports Complex
SUMMARY:Lower Level Game at Vadnais Heights Sports Complex
CLASS:PUBLIC
DTSTAMP:20260421T120137Z
END:VEVENT
END:VCALENDAR