BEGIN:VCALENDAR
VERSION:2.0
PRODID:JMS Hockey
X-PUBLISHED-TTL:P1W
BEGIN:VEVENT
UID:69e7a307069c8
DTSTART:20120207T034500Z
SEQUENCE:0
TRANSP:OPAQUE
DTEND:20120207T051500Z
URL:http://jmshockey.com/games/3633
LOCATION:Vadnais Heights Sports Complex
SUMMARY:Lower Level Game at Vadnais Heights Sports Complex
CLASS:PUBLIC
DTSTAMP:20260421T111711Z
END:VEVENT
END:VCALENDAR