BEGIN:VCALENDAR
VERSION:2.0
PRODID:JMS Hockey
X-PUBLISHED-TTL:P1W
BEGIN:VEVENT
UID:69e7bfc34495e
DTSTART:20120117T034500Z
SEQUENCE:0
TRANSP:OPAQUE
DTEND:20120117T051500Z
URL:http://jmshockey.com/games/3631
LOCATION:Vadnais Heights Sports Complex
SUMMARY:Lower Level Game at Vadnais Heights Sports Complex
CLASS:PUBLIC
DTSTAMP:20260421T131947Z
END:VEVENT
END:VCALENDAR