BEGIN:VCALENDAR
VERSION:2.0
PRODID:JMS Hockey
X-PUBLISHED-TTL:P1W
BEGIN:VEVENT
UID:69e9e7af73138
DTSTART:20120110T034500Z
SEQUENCE:0
TRANSP:OPAQUE
DTEND:20120110T051500Z
URL:http://jmshockey.com/games/3630
LOCATION:Vadnais Heights Sports Complex
SUMMARY:Lower Level Game at Vadnais Heights Sports Complex
CLASS:PUBLIC
DTSTAMP:20260423T043439Z
END:VEVENT
END:VCALENDAR