BEGIN:VCALENDAR
VERSION:2.0
PRODID:JMS Hockey
X-PUBLISHED-TTL:P1W
BEGIN:VEVENT
UID:69e7c12682375
DTSTART:20111206T034500Z
SEQUENCE:0
TRANSP:OPAQUE
DTEND:20111206T051500Z
URL:http://jmshockey.com/games/3627
LOCATION:Vadnais Heights Sports Complex
SUMMARY:Lower Level Game at Vadnais Heights Sports Complex
CLASS:PUBLIC
DTSTAMP:20260421T132542Z
END:VEVENT
END:VCALENDAR