BEGIN:VCALENDAR
VERSION:2.0
PRODID:JMS Hockey
X-PUBLISHED-TTL:P1W
BEGIN:VEVENT
UID:69e7a312749ce
DTSTART:20120131T032000Z
SEQUENCE:0
TRANSP:OPAQUE
DTEND:20120131T045000Z
URL:http://jmshockey.com/games/3614
LOCATION:Doug Woog Arena (Wakota)
SUMMARY:Lower Level Game at Doug Woog Arena (Wakota)
CLASS:PUBLIC
DTSTAMP:20260421T111722Z
END:VEVENT
END:VCALENDAR