BEGIN:VCALENDAR
VERSION:2.0
PRODID:JMS Hockey
X-PUBLISHED-TTL:P1W
BEGIN:VEVENT
UID:69e7cb3299959
DTSTART:20120104T034000Z
SEQUENCE:0
TRANSP:OPAQUE
DTEND:20120104T051000Z
URL:http://jmshockey.com/games/3608
LOCATION:Doug Woog Arena (Wakota)
SUMMARY:Upper Level Game at Doug Woog Arena (Wakota)
CLASS:PUBLIC
DTSTAMP:20260421T140834Z
END:VEVENT
END:VCALENDAR