BEGIN:VCALENDAR
VERSION:2.0
PRODID:JMS Hockey
X-PUBLISHED-TTL:P1W
BEGIN:VEVENT
UID:69e7a36b99ca4
DTSTART:20111220T032000Z
SEQUENCE:0
TRANSP:OPAQUE
DTEND:20111220T045000Z
URL:http://jmshockey.com/games/3607
LOCATION:Doug Woog Arena (Wakota)
SUMMARY:Lower Level Game at Doug Woog Arena (Wakota)
CLASS:PUBLIC
DTSTAMP:20260421T111851Z
END:VEVENT
END:VCALENDAR