BEGIN:VCALENDAR
VERSION:2.0
PRODID:JMS Hockey
X-PUBLISHED-TTL:P1W
BEGIN:VEVENT
UID:69e7a774cdd23
DTSTART:20111025T021000Z
SEQUENCE:0
TRANSP:OPAQUE
DTEND:20111025T034000Z
URL:http://jmshockey.com/games/3597
LOCATION:Doug Woog Arena (Wakota)
SUMMARY:Lower Level Game at Doug Woog Arena (Wakota)
CLASS:PUBLIC
DTSTAMP:20260421T113604Z
END:VEVENT
END:VCALENDAR