BEGIN:VCALENDAR
VERSION:2.0
PRODID:JMS Hockey
X-PUBLISHED-TTL:P1W
BEGIN:VEVENT
UID:69e7dd8527877
DTSTART:20120228T033000Z
SEQUENCE:0
TRANSP:OPAQUE
DTEND:20120228T050000Z
URL:http://jmshockey.com/games/3589
LOCATION:St Thomas Ice Arena
SUMMARY:Elite Game at St Thomas Ice Arena
CLASS:PUBLIC
DTSTAMP:20260421T152645Z
END:VEVENT
END:VCALENDAR