BEGIN:VCALENDAR
VERSION:2.0
PRODID:JMS Hockey
X-PUBLISHED-TTL:P1W
BEGIN:VEVENT
UID:69e7a73bdcb6b
DTSTART:20120110T035000Z
SEQUENCE:0
TRANSP:OPAQUE
DTEND:20120110T052000Z
URL:http://jmshockey.com/games/3584
LOCATION:St Thomas Ice Arena
SUMMARY:Upper Level Game at St Thomas Ice Arena
CLASS:PUBLIC
DTSTAMP:20260421T113507Z
END:VEVENT
END:VCALENDAR