BEGIN:VCALENDAR
VERSION:2.0
PRODID:JMS Hockey
X-PUBLISHED-TTL:P1W
BEGIN:VEVENT
UID:69e7c1742aaa1
DTSTART:20111122T033000Z
SEQUENCE:0
TRANSP:OPAQUE
DTEND:20111122T050000Z
URL:http://jmshockey.com/games/3579
LOCATION:St Thomas Ice Arena
SUMMARY:Upper Level Game at St Thomas Ice Arena
CLASS:PUBLIC
DTSTAMP:20260421T132700Z
END:VEVENT
END:VCALENDAR