BEGIN:VCALENDAR
VERSION:2.0
PRODID:JMS Hockey
X-PUBLISHED-TTL:P1W
BEGIN:VEVENT
UID:69e7cb91995a3
DTSTART:20111015T013000Z
SEQUENCE:0
TRANSP:OPAQUE
DTEND:20111015T030000Z
URL:http://jmshockey.com/games/3550
LOCATION:St Louis Park Rec Center
SUMMARY:Level 4 Game at St Louis Park Rec Center
CLASS:PUBLIC
DTSTAMP:20260421T141009Z
END:VEVENT
END:VCALENDAR