BEGIN:VCALENDAR
VERSION:2.0
PRODID:JMS Hockey
X-PUBLISHED-TTL:P1W
BEGIN:VEVENT
UID:69e7ba18c469a
DTSTART:20111105T023000Z
SEQUENCE:0
TRANSP:OPAQUE
DTEND:20111105T040000Z
URL:http://jmshockey.com/games/3525
LOCATION:Richfield Ice Arena
SUMMARY:Level 4 Game at Richfield Ice Arena
CLASS:PUBLIC
DTSTAMP:20260421T125536Z
END:VEVENT
END:VCALENDAR