BEGIN:VCALENDAR
VERSION:2.0
PRODID:JMS Hockey
X-PUBLISHED-TTL:P1W
BEGIN:VEVENT
UID:69e7a77b7dbfd
DTSTART:20111022T023000Z
SEQUENCE:0
TRANSP:OPAQUE
DTEND:20111022T040000Z
URL:http://jmshockey.com/games/3524
LOCATION:Richfield Ice Arena
SUMMARY:Level 4 Game at Richfield Ice Arena
CLASS:PUBLIC
DTSTAMP:20260421T113611Z
END:VEVENT
END:VCALENDAR