BEGIN:VCALENDAR
VERSION:2.0
PRODID:JMS Hockey
X-PUBLISHED-TTL:P1W
BEGIN:VEVENT
UID:69e77323ba599
DTSTART:20120225T030000Z
SEQUENCE:0
TRANSP:OPAQUE
DTEND:20120225T043000Z
URL:http://jmshockey.com/games/3518
LOCATION:Pleasant Arena
SUMMARY:Level 2 Game at Pleasant Arena
CLASS:PUBLIC
DTSTAMP:20260421T075251Z
END:VEVENT
END:VCALENDAR