BEGIN:VCALENDAR
VERSION:2.0
PRODID:JMS Hockey
X-PUBLISHED-TTL:P1W
BEGIN:VEVENT
UID:69e79f7f890f1
DTSTART:20120223T031000Z
SEQUENCE:0
TRANSP:OPAQUE
DTEND:20120223T044000Z
URL:http://jmshockey.com/games/3517
LOCATION:Highland Arena
SUMMARY:Level 3 Game at Highland Arena
CLASS:PUBLIC
DTSTAMP:20260421T110207Z
END:VEVENT
END:VCALENDAR