BEGIN:VCALENDAR
VERSION:2.0
PRODID:JMS Hockey
X-PUBLISHED-TTL:P1W
BEGIN:VEVENT
UID:69e7879f130f3
DTSTART:20120128T034000Z
SEQUENCE:0
TRANSP:OPAQUE
DTEND:20120128T051000Z
URL:http://jmshockey.com/games/3510
LOCATION:Aldrich Arena
SUMMARY:Level 2 Game at Aldrich Arena
CLASS:PUBLIC
DTSTAMP:20260421T092015Z
END:VEVENT
END:VCALENDAR