BEGIN:VCALENDAR
VERSION:2.0
PRODID:JMS Hockey
X-PUBLISHED-TTL:P1W
BEGIN:VEVENT
UID:69e7eab0c7a2f
DTSTART:20120121T034000Z
SEQUENCE:0
TRANSP:OPAQUE
DTEND:20120121T051000Z
URL:http://jmshockey.com/games/3508
LOCATION:Aldrich Arena
SUMMARY:Level 2 Game at Aldrich Arena
CLASS:PUBLIC
DTSTAMP:20260421T162256Z
END:VEVENT
END:VCALENDAR