BEGIN:VCALENDAR
VERSION:2.0
PRODID:JMS Hockey
X-PUBLISHED-TTL:P1W
BEGIN:VEVENT
UID:69e7e16caa4da
DTSTART:20120119T025000Z
SEQUENCE:0
TRANSP:OPAQUE
DTEND:20120119T042000Z
URL:http://jmshockey.com/games/3507
LOCATION:Harding Arena
SUMMARY:Level 3 Game at Harding Arena
CLASS:PUBLIC
DTSTAMP:20260421T154324Z
END:VEVENT
END:VCALENDAR