BEGIN:VCALENDAR
VERSION:2.0
PRODID:JMS Hockey
X-PUBLISHED-TTL:P1W
BEGIN:VEVENT
UID:69e79bb245a80
DTSTART:20120107T030000Z
SEQUENCE:0
TRANSP:OPAQUE
DTEND:20120107T043000Z
URL:http://jmshockey.com/games/3504
LOCATION:Pleasant Arena
SUMMARY:Level 2 Game at Pleasant Arena
CLASS:PUBLIC
DTSTAMP:20260421T104554Z
END:VEVENT
END:VCALENDAR