BEGIN:VCALENDAR
VERSION:2.0
PRODID:JMS Hockey
X-PUBLISHED-TTL:P1W
BEGIN:VEVENT
UID:69e7c3a633e01
DTSTART:20120105T025000Z
SEQUENCE:0
TRANSP:OPAQUE
DTEND:20120105T042000Z
URL:http://jmshockey.com/games/3503
LOCATION:Harding Arena
SUMMARY:Level 3 Game at Harding Arena
CLASS:PUBLIC
DTSTAMP:20260421T133622Z
END:VEVENT
END:VCALENDAR