BEGIN:VCALENDAR
VERSION:2.0
PRODID:JMS Hockey
X-PUBLISHED-TTL:P1W
BEGIN:VEVENT
UID:69e7e71cd71cb
DTSTART:20111231T030000Z
SEQUENCE:0
TRANSP:OPAQUE
DTEND:20111231T043000Z
URL:http://jmshockey.com/games/3502
LOCATION:Pleasant Arena
SUMMARY:Level 2 Game at Pleasant Arena
CLASS:PUBLIC
DTSTAMP:20260421T160740Z
END:VEVENT
END:VCALENDAR