BEGIN:VCALENDAR
VERSION:2.0
PRODID:JMS Hockey
X-PUBLISHED-TTL:P1W
BEGIN:VEVENT
UID:69e7878b5882a
DTSTART:20111210T034000Z
SEQUENCE:0
TRANSP:OPAQUE
DTEND:20111210T051000Z
URL:http://jmshockey.com/games/3496
LOCATION:Aldrich Arena
SUMMARY:Level 2 Game at Aldrich Arena
CLASS:PUBLIC
DTSTAMP:20260421T091955Z
END:VEVENT
END:VCALENDAR