BEGIN:VCALENDAR
VERSION:2.0
PRODID:JMS Hockey
X-PUBLISHED-TTL:P1W
BEGIN:VEVENT
UID:69e7af2406fe8
DTSTART:20111119T030000Z
SEQUENCE:0
TRANSP:OPAQUE
DTEND:20111119T043000Z
URL:http://jmshockey.com/games/3491
LOCATION:Pleasant Arena
SUMMARY:Level 2 Game at Pleasant Arena
CLASS:PUBLIC
DTSTAMP:20260421T120852Z
END:VEVENT
END:VCALENDAR