BEGIN:VCALENDAR
VERSION:2.0
PRODID:JMS Hockey
X-PUBLISHED-TTL:P1W
BEGIN:VEVENT
UID:69e78799ee834
DTSTART:20111112T031000Z
SEQUENCE:0
TRANSP:OPAQUE
DTEND:20111112T044000Z
URL:http://jmshockey.com/games/3489
LOCATION:Highland Arena
SUMMARY:Level 2 Game at Highland Arena
CLASS:PUBLIC
DTSTAMP:20260421T092009Z
END:VEVENT
END:VCALENDAR