BEGIN:VCALENDAR
VERSION:2.0
PRODID:JMS Hockey
X-PUBLISHED-TTL:P1W
BEGIN:VEVENT
UID:69e7d494cc31c
DTSTART:20111029T020000Z
SEQUENCE:0
TRANSP:OPAQUE
DTEND:20111029T033000Z
URL:http://jmshockey.com/games/3485
LOCATION:Pleasant Arena
SUMMARY:Level 2 Game at Pleasant Arena
CLASS:PUBLIC
DTSTAMP:20260421T144836Z
END:VEVENT
END:VCALENDAR