BEGIN:VCALENDAR
VERSION:2.0
PRODID:JMS Hockey
X-PUBLISHED-TTL:P1W
BEGIN:VEVENT
UID:69e7a78fc2a38
DTSTART:20111008T010000Z
SEQUENCE:0
TRANSP:OPAQUE
DTEND:20111008T023000Z
URL:http://jmshockey.com/games/3480
LOCATION:Highland Arena
SUMMARY:Level 2 Game at Highland Arena
CLASS:PUBLIC
DTSTAMP:20260421T113631Z
END:VEVENT
END:VCALENDAR