BEGIN:VCALENDAR
VERSION:2.0
PRODID:JMS Hockey
X-PUBLISHED-TTL:P1W
BEGIN:VEVENT
UID:69e7cea740fb9
DTSTART:20111013T015000Z
SEQUENCE:0
TRANSP:OPAQUE
DTEND:20111013T032000Z
URL:http://jmshockey.com/games/3479
LOCATION:Harding Arena
SUMMARY:Level 3 Game at Harding Arena
CLASS:PUBLIC
DTSTAMP:20260421T142319Z
END:VEVENT
END:VCALENDAR