BEGIN:VCALENDAR
VERSION:2.0
PRODID:JMS Hockey
X-PUBLISHED-TTL:P1W
BEGIN:VEVENT
UID:69e7ddb343c7e
DTSTART:20111229T023000Z
SEQUENCE:0
TRANSP:OPAQUE
DTEND:20111229T040000Z
URL:http://jmshockey.com/games/3469
LOCATION:Polar Arena
SUMMARY:Level 4 Game at Polar Arena
CLASS:PUBLIC
DTSTAMP:20260421T152731Z
END:VEVENT
END:VCALENDAR