BEGIN:VCALENDAR
VERSION:2.0
PRODID:JMS Hockey
X-PUBLISHED-TTL:P1W
BEGIN:VEVENT
UID:69e7c316423eb
DTSTART:20111208T023000Z
SEQUENCE:0
TRANSP:OPAQUE
DTEND:20111208T040000Z
URL:http://jmshockey.com/games/3465
LOCATION:Polar Arena
SUMMARY:Level 4 Game at Polar Arena
CLASS:PUBLIC
DTSTAMP:20260421T133358Z
END:VEVENT
END:VCALENDAR