BEGIN:VCALENDAR
VERSION:2.0
PRODID:JMS Hockey
X-PUBLISHED-TTL:P1W
BEGIN:VEVENT
UID:69e7c35c3c086
DTSTART:20111201T023000Z
SEQUENCE:0
TRANSP:OPAQUE
DTEND:20111201T040000Z
URL:http://jmshockey.com/games/3464
LOCATION:Polar Arena
SUMMARY:Level 4 Game at Polar Arena
CLASS:PUBLIC
DTSTAMP:20260421T133508Z
END:VEVENT
END:VCALENDAR