BEGIN:VCALENDAR
VERSION:2.0
PRODID:JMS Hockey
X-PUBLISHED-TTL:P1W
BEGIN:VEVENT
UID:69e7c36dccce2
DTSTART:20111110T023000Z
SEQUENCE:0
TRANSP:OPAQUE
DTEND:20111110T040000Z
URL:http://jmshockey.com/games/3461
LOCATION:Polar Arena
SUMMARY:Level 4 Game at Polar Arena
CLASS:PUBLIC
DTSTAMP:20260421T133525Z
END:VEVENT
END:VCALENDAR