BEGIN:VCALENDAR
VERSION:2.0
PRODID:JMS Hockey
X-PUBLISHED-TTL:P1W
BEGIN:VEVENT
UID:69e7c1279ca9f
DTSTART:20111221T033000Z
SEQUENCE:0
TRANSP:OPAQUE
DTEND:20111221T050000Z
URL:http://jmshockey.com/games/3449
LOCATION:Plymouth Ice Center
SUMMARY:Lower Level Game at Plymouth Ice Center
CLASS:PUBLIC
DTSTAMP:20260421T132543Z
END:VEVENT
END:VCALENDAR