BEGIN:VCALENDAR
VERSION:2.0
PRODID:JMS Hockey
X-PUBLISHED-TTL:P1W
BEGIN:VEVENT
UID:69e7ad7a960f7
DTSTART:20111109T033000Z
SEQUENCE:0
TRANSP:OPAQUE
DTEND:20111109T050000Z
URL:http://jmshockey.com/games/3443
LOCATION:Plymouth Ice Center
SUMMARY:Lower Level Game at Plymouth Ice Center
CLASS:PUBLIC
DTSTAMP:20260421T120146Z
END:VEVENT
END:VCALENDAR