BEGIN:VCALENDAR
VERSION:2.0
PRODID:JMS Hockey
X-PUBLISHED-TTL:P1W
BEGIN:VEVENT
UID:69e7c74306f7e
DTSTART:20111005T024500Z
SEQUENCE:0
TRANSP:OPAQUE
DTEND:20111005T041500Z
URL:http://jmshockey.com/games/3438
LOCATION:Plymouth Ice Center
SUMMARY:Lower Level Game at Plymouth Ice Center
CLASS:PUBLIC
DTSTAMP:20260421T135147Z
END:VEVENT
END:VCALENDAR