BEGIN:VCALENDAR
VERSION:2.0
PRODID:JMS Hockey
X-PUBLISHED-TTL:P1W
BEGIN:VEVENT
UID:69e7c13f057cc
DTSTART:20120225T034500Z
SEQUENCE:0
TRANSP:OPAQUE
DTEND:20120225T051500Z
URL:http://jmshockey.com/games/3435
LOCATION:Parade Ice Gardens
SUMMARY:Level 4 Game at Parade Ice Gardens
CLASS:PUBLIC
DTSTAMP:20260421T132607Z
END:VEVENT
END:VCALENDAR