BEGIN:VCALENDAR
VERSION:2.0
PRODID:JMS Hockey
X-PUBLISHED-TTL:P1W
BEGIN:VEVENT
UID:69e79a32cc78c
DTSTART:20111029T010000Z
SEQUENCE:0
TRANSP:OPAQUE
DTEND:20111029T023000Z
URL:http://jmshockey.com/games/3426
LOCATION:Parade Ice Gardens
SUMMARY:Level 3 Game at Parade Ice Gardens
CLASS:PUBLIC
DTSTAMP:20260421T103930Z
END:VEVENT
END:VCALENDAR