BEGIN:VCALENDAR
VERSION:2.0
PRODID:JMS Hockey
X-PUBLISHED-TTL:P1W
BEGIN:VEVENT
UID:69e7ba0829e11
DTSTART:20111022T013000Z
SEQUENCE:0
TRANSP:OPAQUE
DTEND:20111022T030000Z
URL:http://jmshockey.com/games/3425
LOCATION:Parade Ice Gardens
SUMMARY:Level 3 Game at Parade Ice Gardens
CLASS:PUBLIC
DTSTAMP:20260421T125520Z
END:VEVENT
END:VCALENDAR