BEGIN:VCALENDAR
VERSION:2.0
PRODID:JMS Hockey
X-PUBLISHED-TTL:P1W
BEGIN:VEVENT
UID:69e7adc51d996
DTSTART:20120211T031500Z
SEQUENCE:0
TRANSP:OPAQUE
DTEND:20120211T044500Z
URL:http://jmshockey.com/games/3416
LOCATION:Northeast Arena
SUMMARY:Level 3 Game at Northeast Arena
CLASS:PUBLIC
DTSTAMP:20260421T120301Z
END:VEVENT
END:VCALENDAR